BEGIN:VCALENDAR
VERSION:2.0
PRODID:-//RUTI - Registrul Unic al Transparenței Intereselor - ECPv4.9.5//NONSGML v1.0//EN
CALSCALE:GREGORIAN
METHOD:PUBLISH
X-WR-CALNAME:RUTI - Registrul Unic al Transparenței Intereselor
X-ORIGINAL-URL:http://ruti.gov.ro
X-WR-CALDESC:Events for RUTI - Registrul Unic al Transparenței Intereselor
BEGIN:VTIMEZONE
TZID:"Europe/Helsinki"
BEGIN:DAYLIGHT
TZOFFSETFROM:+0200
TZOFFSETTO:+0300
TZNAME:EEST
DTSTART:20190331T010000
END:DAYLIGHT
BEGIN:STANDARD
TZOFFSETFROM:+0300
TZOFFSETTO:+0200
TZNAME:EET
DTSTART:20191027T010000
END:STANDARD
END:VTIMEZONE
BEGIN:VEVENT
DTSTART;TZID="Europe/Helsinki":20190411T100000
DTEND;TZID="Europe/Helsinki":20190413T130000
DTSTAMP:20210801T165434
CREATED:20190626T083243Z
LAST-MODIFIED:20190626T083243Z
UID:5040-1554976800-1555160400@ruti.gov.ro
SUMMARY:Cea de-a 13-a ediție a Întâlnirii Rețelei „Destinații Europene de Excelență – EDEN”
DESCRIPTION:
URL:http://ruti.gov.ro/event/cea-de-a-13-a-editie-a-intalnirii-retelei-destinatii-europene-de-excelenta-eden/
CATEGORIES:Comisia Europeană,Asociația Rețelei EDEN,Consiliul Județean Neamț
END:VEVENT
END:VCALENDAR