BEGIN:VCALENDAR
VERSION:2.0
PRODID:-//RUTI - Registrul Unic al Transparenței Intereselor - ECPv4.9.5//NONSGML v1.0//EN
CALSCALE:GREGORIAN
METHOD:PUBLISH
X-WR-CALNAME:RUTI - Registrul Unic al Transparenței Intereselor
X-ORIGINAL-URL:http://ruti.gov.ro
X-WR-CALDESC:Events for RUTI - Registrul Unic al Transparenței Intereselor
BEGIN:VTIMEZONE
TZID:"Europe/Helsinki"
BEGIN:DAYLIGHT
TZOFFSETFROM:+0200
TZOFFSETTO:+0300
TZNAME:EEST
DTSTART:20170326T010000
END:DAYLIGHT
BEGIN:STANDARD
TZOFFSETFROM:+0300
TZOFFSETTO:+0200
TZNAME:EET
DTSTART:20171029T010000
END:STANDARD
END:VTIMEZONE
BEGIN:VEVENT
DTSTART;TZID="Europe/Helsinki":20171016T150000
DTEND;TZID="Europe/Helsinki":20171016T153000
DTSTAMP:20210711T055905
CREATED:20171016T061628Z
LAST-MODIFIED:20171016T072815Z
UID:3187-1508166000-1508167800@ruti.gov.ro
SUMMARY:Întâlnire cu reprezentanți ai DAMEN SHIPYARDS
DESCRIPTION:
URL:http://ruti.gov.ro/event/intalnire-cu-reprezentanti-ai-damen-shipyards/
CATEGORIES:DAMEN SHIPYARDS
END:VEVENT
END:VCALENDAR