BEGIN:VCALENDAR
VERSION:2.0
PRODID:-//RUTI - Registrul Unic al Transparenței Intereselor - ECPv4.9.5//NONSGML v1.0//EN
CALSCALE:GREGORIAN
METHOD:PUBLISH
X-WR-CALNAME:RUTI - Registrul Unic al Transparenței Intereselor
X-ORIGINAL-URL:http://ruti.gov.ro
X-WR-CALDESC:Events for RUTI - Registrul Unic al Transparenței Intereselor
BEGIN:VTIMEZONE
TZID:"Europe/Helsinki"
BEGIN:DAYLIGHT
TZOFFSETFROM:+0200
TZOFFSETTO:+0300
TZNAME:EEST
DTSTART:20170326T010000
END:DAYLIGHT
BEGIN:STANDARD
TZOFFSETFROM:+0300
TZOFFSETTO:+0200
TZNAME:EET
DTSTART:20171029T010000
END:STANDARD
END:VTIMEZONE
BEGIN:VEVENT
DTSTART;TZID="Europe/Helsinki":20170301T140000
DTEND;TZID="Europe/Helsinki":20170301T160000
DTSTAMP:20210729T232237
CREATED:20170301T102639Z
LAST-MODIFIED:20170301T102639Z
UID:1783-1488376800-1488384000@ruti.gov.ro
SUMMARY:Întâlnire cu reprezentanții Cluburilor Sportive
DESCRIPTION:
URL:http://ruti.gov.ro/event/intalnire-cu-reprezentantii-cluburilor-sportive/
CATEGORIES:Cluburi Sportive din subordinea MTS
END:VEVENT
END:VCALENDAR