BEGIN:VCALENDAR
VERSION:2.0
PRODID:-//RUTI - Registrul Unic al Transparenței Intereselor - ECPv4.9.5//NONSGML v1.0//EN
CALSCALE:GREGORIAN
METHOD:PUBLISH
X-WR-CALNAME:RUTI - Registrul Unic al Transparenței Intereselor
X-ORIGINAL-URL:http://ruti.gov.ro
X-WR-CALDESC:Events for RUTI - Registrul Unic al Transparenței Intereselor
BEGIN:VTIMEZONE
TZID:"Europe/Helsinki"
BEGIN:DAYLIGHT
TZOFFSETFROM:+0200
TZOFFSETTO:+0300
TZNAME:EEST
DTSTART:20170326T010000
END:DAYLIGHT
BEGIN:STANDARD
TZOFFSETFROM:+0300
TZOFFSETTO:+0200
TZNAME:EET
DTSTART:20171029T010000
END:STANDARD
END:VTIMEZONE
BEGIN:VEVENT
DTSTART;TZID="Europe/Helsinki":20170922T110000
DTEND;TZID="Europe/Helsinki":20170922T120000
DTSTAMP:20210723T172837
CREATED:20170926T114152Z
LAST-MODIFIED:20170927T135551Z
UID:2940-1506078000-1506081600@ruti.gov.ro
SUMMARY:Intalnire de lucru cu reprezentantii Tenneco si Ernst&Young
DESCRIPTION:
URL:http://ruti.gov.ro/event/intalnire-cu-reprezentantii-tenneco-si-ernstyoung/
CATEGORIES:Tenneco,Ernst&Young
END:VEVENT
END:VCALENDAR