BEGIN:VCALENDAR
VERSION:2.0
PRODID:-//RUTI - Registrul Unic al Transparenței Intereselor - ECPv4.9.5//NONSGML v1.0//EN
CALSCALE:GREGORIAN
METHOD:PUBLISH
X-WR-CALNAME:RUTI - Registrul Unic al Transparenței Intereselor
X-ORIGINAL-URL:http://ruti.gov.ro
X-WR-CALDESC:Events for RUTI - Registrul Unic al Transparenței Intereselor
BEGIN:VTIMEZONE
TZID:"Europe/Helsinki"
BEGIN:DAYLIGHT
TZOFFSETFROM:+0200
TZOFFSETTO:+0300
TZNAME:EEST
DTSTART:20170326T010000
END:DAYLIGHT
BEGIN:STANDARD
TZOFFSETFROM:+0300
TZOFFSETTO:+0200
TZNAME:EET
DTSTART:20171029T010000
END:STANDARD
END:VTIMEZONE
BEGIN:VEVENT
DTSTART;TZID="Europe/Helsinki":20171004T140000
DTEND;TZID="Europe/Helsinki":20171004T183000
DTSTAMP:20210616T130201
CREATED:20171005T081502Z
LAST-MODIFIED:20171005T081502Z
UID:3027-1507125600-1507141800@ruti.gov.ro
SUMMARY:Reglementare de la cuvant la terabyte in 15 ani
DESCRIPTION:
URL:http://ruti.gov.ro/event/reglementare-de-la-cuvant-la-terabyte-in-15-ani/
CATEGORIES:ARCEP,BEREC,RTR,BNetza,PTA,Orange Romania,RCS&RDS,UPC
END:VEVENT
END:VCALENDAR