BEGIN:VCALENDAR
VERSION:2.0
PRODID:-//RUTI - Registrul Unic al Transparenței Intereselor - ECPv4.9.5//NONSGML v1.0//EN
CALSCALE:GREGORIAN
METHOD:PUBLISH
X-WR-CALNAME:RUTI - Registrul Unic al Transparenței Intereselor
X-ORIGINAL-URL:http://ruti.gov.ro
X-WR-CALDESC:Events for RUTI - Registrul Unic al Transparenței Intereselor
BEGIN:VTIMEZONE
TZID:"Europe/Helsinki"
BEGIN:DAYLIGHT
TZOFFSETFROM:+0200
TZOFFSETTO:+0300
TZNAME:EEST
DTSTART:20170326T010000
END:DAYLIGHT
BEGIN:STANDARD
TZOFFSETFROM:+0300
TZOFFSETTO:+0200
TZNAME:EET
DTSTART:20171029T010000
END:STANDARD
END:VTIMEZONE
BEGIN:VEVENT
DTSTART;TZID="Europe/Helsinki":20170929T093000
DTEND;TZID="Europe/Helsinki":20170929T124500
DTSTAMP:20210616T125913
CREATED:20171009T090838Z
LAST-MODIFIED:20171009T090838Z
UID:3081-1506677400-1506689100@ruti.gov.ro
SUMMARY:Salariul minim in Romania - intre deziderate si restrictii. O abordare socio-economica.
DESCRIPTION:
URL:http://ruti.gov.ro/event/salariul-minim-in-romania-intre-deziderate-si-restrictii-o-abordare-socio-economica/
CATEGORIES:Fundatia Friedrich Ebert Romania,Confederația Națională Sindicală (CNS) "Cartel Alfa",Federația Națională a Sindicatelor din Industria Alimentară SINDALIMENTA,Uniunea Generală a Industriaşilor din România UGIR
END:VEVENT
END:VCALENDAR