BEGIN:VCALENDAR
VERSION:2.0
PRODID:-//RUTI - Registrul Unic al Transparenței Intereselor - ECPv4.9.5//NONSGML v1.0//EN
CALSCALE:GREGORIAN
METHOD:PUBLISH
X-WR-CALNAME:RUTI - Registrul Unic al Transparenței Intereselor
X-ORIGINAL-URL:http://ruti.gov.ro
X-WR-CALDESC:Events for RUTI - Registrul Unic al Transparenței Intereselor
BEGIN:VTIMEZONE
TZID:"Europe/Helsinki"
BEGIN:DAYLIGHT
TZOFFSETFROM:+0200
TZOFFSETTO:+0300
TZNAME:EEST
DTSTART:20200329T010000
END:DAYLIGHT
BEGIN:STANDARD
TZOFFSETFROM:+0300
TZOFFSETTO:+0200
TZNAME:EET
DTSTART:20201025T010000
END:STANDARD
END:VTIMEZONE
BEGIN:VEVENT
DTSTART;TZID="Europe/Helsinki":20200716T150000
DTEND;TZID="Europe/Helsinki":20200716T160000
DTSTAMP:20210723T172638
CREATED:20200817T204838Z
LAST-MODIFIED:20200820T083523Z
UID:5539-1594911600-1594915200@ruti.gov.ro
SUMMARY:Ședinţa extraordinară a Comisiei de dialog social
DESCRIPTION:
URL:http://ruti.gov.ro/event/sedinta-extraordinara-a-comisiei-de-dialog-social-3/
CATEGORIES:Confederaţia Sidicatelor Democratice din România – CSDR,Confederaţia Naţională Sindicală “CARTEL ALFA”,Uniunea Generală a Industriaşilor din România UGIR,Confederaţia Patronală din Industrie,Agricultură,Construcţii şi Servicii din România - CONPIROM,Confederația Uniunea Patronatelor din România – BusinessRomania
END:VEVENT
END:VCALENDAR