BEGIN:VCALENDAR
VERSION:2.0
PRODID:-//RUTI - Registrul Unic al Transparenței Intereselor - ECPv4.9.5//NONSGML v1.0//EN
CALSCALE:GREGORIAN
METHOD:PUBLISH
X-WR-CALNAME:RUTI - Registrul Unic al Transparenței Intereselor
X-ORIGINAL-URL:http://ruti.gov.ro
X-WR-CALDESC:Events for RUTI - Registrul Unic al Transparenței Intereselor
BEGIN:VTIMEZONE
TZID:"Europe/Helsinki"
BEGIN:DAYLIGHT
TZOFFSETFROM:+0200
TZOFFSETTO:+0300
TZNAME:EEST
DTSTART:20210328T010000
END:DAYLIGHT
BEGIN:STANDARD
TZOFFSETFROM:+0300
TZOFFSETTO:+0200
TZNAME:EET
DTSTART:20211031T010000
END:STANDARD
END:VTIMEZONE
BEGIN:VEVENT
DTSTART;TZID="Europe/Helsinki":20210524T120000
DTEND;TZID="Europe/Helsinki":20210525T140000
DTSTAMP:20210729T232045
CREATED:20210524T193035Z
LAST-MODIFIED:20210524T193035Z
UID:6127-1621857600-1621951200@ruti.gov.ro
SUMMARY:Setting up and Implementation of a National Energy Efficiency Fund
DESCRIPTION:
URL:http://ruti.gov.ro/event/6127/
END:VEVENT
BEGIN:VEVENT
DTSTART;TZID="Europe/Helsinki":20210525T110000
DTEND;TZID="Europe/Helsinki":20210525T130000
DTSTAMP:20210729T232045
CREATED:20210519T110648Z
LAST-MODIFIED:20210526T120204Z
UID:6112-1621940400-1621947600@ruti.gov.ro
SUMMARY:Conferința internațională despre inovarea în construcții
DESCRIPTION:
URL:http://ruti.gov.ro/event/6112/
END:VEVENT
BEGIN:VEVENT
DTSTART;TZID="Europe/Helsinki":20210525T110000
DTEND;TZID="Europe/Helsinki":20210521T120000
DTSTAMP:20210729T232045
CREATED:20210521T091006Z
LAST-MODIFIED:20210521T091006Z
UID:6117-1621940400-1621598400@ruti.gov.ro
SUMMARY:Evenimentul de lansare a proiectului „Achiziţii cu impact social şi de mediu”
DESCRIPTION:
URL:http://ruti.gov.ro/event/6117/
END:VEVENT
BEGIN:VEVENT
DTSTART;TZID="Europe/Helsinki":20210525T110000
DTEND;TZID="Europe/Helsinki":20210525T120000
DTSTAMP:20210729T232045
CREATED:20210524T144139Z
LAST-MODIFIED:20210524T144139Z
UID:6126-1621940400-1621944000@ruti.gov.ro
SUMMARY:Întâlnire cu reprezentanții ACAROM
DESCRIPTION:
URL:http://ruti.gov.ro/event/6126/
END:VEVENT
BEGIN:VEVENT
DTSTART;TZID="Europe/Helsinki":20210525T110000
DTEND;TZID="Europe/Helsinki":20210525T130000
DTSTAMP:20210729T232045
CREATED:20210527T121435Z
LAST-MODIFIED:20210527T121435Z
UID:6135-1621940400-1621947600@ruti.gov.ro
SUMMARY:Intalnire Comisia Nationala pentru Controlul Activitatilor Nucleare  (CNCAN) - Ambasada Japoniei
DESCRIPTION:
URL:http://ruti.gov.ro/event/6135/
END:VEVENT
BEGIN:VEVENT
DTSTART;TZID="Europe/Helsinki":20210525T110000
DTEND;TZID="Europe/Helsinki":20210525T130000
DTSTAMP:20210729T232045
CREATED:20210527T122157Z
LAST-MODIFIED:20210527T122157Z
UID:6136-1621940400-1621947600@ruti.gov.ro
SUMMARY:Intalnire Comisia Nationala pentru Controlul Activitatilor Nucleare  (CNCAN) - Ambasada Japoniei
DESCRIPTION:
URL:http://ruti.gov.ro/event/6136/
END:VEVENT
BEGIN:VEVENT
DTSTART;TZID="Europe/Helsinki":20210525T143000
DTEND;TZID="Europe/Helsinki":20210525T160000
DTSTAMP:20210729T232045
CREATED:20210525T073255Z
LAST-MODIFIED:20210525T073255Z
UID:6129-1621953000-1621958400@ruti.gov.ro
SUMMARY:Întâlnire de lucru - Subprogramul de Autism
DESCRIPTION:
URL:http://ruti.gov.ro/event/6129/
END:VEVENT
END:VCALENDAR