BEGIN:VCALENDAR
VERSION:2.0
PRODID:-//RUTI - Registrul Unic al Transparenței Intereselor - ECPv4.9.5//NONSGML v1.0//EN
CALSCALE:GREGORIAN
METHOD:PUBLISH
X-WR-CALNAME:RUTI - Registrul Unic al Transparenței Intereselor
X-ORIGINAL-URL:http://ruti.gov.ro
X-WR-CALDESC:Events for RUTI - Registrul Unic al Transparenței Intereselor
BEGIN:VTIMEZONE
TZID:"Europe/Helsinki"
BEGIN:DAYLIGHT
TZOFFSETFROM:+0200
TZOFFSETTO:+0300
TZNAME:EEST
DTSTART:20210328T010000
END:DAYLIGHT
BEGIN:STANDARD
TZOFFSETFROM:+0300
TZOFFSETTO:+0200
TZNAME:EET
DTSTART:20211031T010000
END:STANDARD
END:VTIMEZONE
BEGIN:VEVENT
DTSTART;TZID="Europe/Helsinki":20210831T130000
DTEND;TZID="Europe/Helsinki":20210831T150000
DTSTAMP:20210908T093834
CREATED:20210827T113924Z
LAST-MODIFIED:20210827T113924Z
UID:6304-1630414800-1630422000@ruti.gov.ro
SUMMARY:"Sportul Cere Fani"
DESCRIPTION:
URL:http://ruti.gov.ro/event/6304/
END:VEVENT
BEGIN:VEVENT
DTSTART;TZID="Europe/Helsinki":20210831T150000
DTEND;TZID="Europe/Helsinki":20210831T163000
DTSTAMP:20210908T093834
CREATED:20210827T123646Z
LAST-MODIFIED:20210827T123646Z
UID:6305-1630422000-1630427400@ruti.gov.ro
SUMMARY:Forumul Roman de Diabet
DESCRIPTION:
URL:http://ruti.gov.ro/event/6305/
END:VEVENT
BEGIN:VEVENT
DTSTART;TZID="Europe/Helsinki":20210831T150000
DTEND;TZID="Europe/Helsinki":20210831T163000
DTSTAMP:20210908T093834
CREATED:20210827T124612Z
LAST-MODIFIED:20210827T124612Z
UID:6306-1630422000-1630427400@ruti.gov.ro
SUMMARY:Forumul Roman de Diabet
DESCRIPTION:
URL:http://ruti.gov.ro/event/6306/
END:VEVENT
END:VCALENDAR